BEGIN:VCALENDAR
VERSION:2.0
PRODID:-//Two Mile House NS - ECPv5.3.1.1//NONSGML v1.0//EN
CALSCALE:GREGORIAN
METHOD:PUBLISH
X-WR-CALNAME:Two Mile House NS
X-ORIGINAL-URL:https://twomilehouseschool.ie
X-WR-CALDESC:Events for Two Mile House NS
BEGIN:VTIMEZONE
TZID:UTC
BEGIN:STANDARD
TZOFFSETFROM:+0000
TZOFFSETTO:+0000
TZNAME:UTC
DTSTART:20230101T000000
END:STANDARD
END:VTIMEZONE
BEGIN:VEVENT
DTSTART;TZID=UTC:20230601T080000
DTEND;TZID=UTC:20230630T170000
DTSTAMP:20260420T180649
CREATED:20230301T093916Z
LAST-MODIFIED:20230301T093916Z
UID:2564-1685606400-1688144400@twomilehouseschool.ie
SUMMARY:School Tours
DESCRIPTION:June 7th – Junior Infants\nJune 12th – Sixth Class\nJune 15th – First & Second Class\nJune 22nd – Senior Infants & Fifth Class\nJune 26th – Third & Fourth Class
URL:https://twomilehouseschool.ie/event/school-tours/
END:VEVENT
END:VCALENDAR