BEGIN:VCALENDAR
VERSION:2.0
PRODID:-//Two Mile House NS - ECPv5.3.1.1//NONSGML v1.0//EN
CALSCALE:GREGORIAN
METHOD:PUBLISH
X-WR-CALNAME:Two Mile House NS
X-ORIGINAL-URL:https://twomilehouseschool.ie
X-WR-CALDESC:Events for Two Mile House NS
BEGIN:VTIMEZONE
TZID:UTC
BEGIN:STANDARD
TZOFFSETFROM:+0000
TZOFFSETTO:+0000
TZNAME:UTC
DTSTART:20200101T000000
END:STANDARD
END:VTIMEZONE
BEGIN:VEVENT
DTSTART;VALUE=DATE:20201211
DTEND;VALUE=DATE:20201212
DTSTAMP:20260420T082048
CREATED:20201204T121932Z
LAST-MODIFIED:20201204T121932Z
UID:1111-1607644800-1607731199@twomilehouseschool.ie
SUMMARY:New Event
DESCRIPTION:This is a new event for the calendar
URL:https://twomilehouseschool.ie/event/new-event/
ATTACH;FMTTYPE=image/jpeg:https://twomilehouseschool.ie/wp-content/uploads/2020/12/green-schools.jpg
END:VEVENT
END:VCALENDAR